BEGIN:VCALENDAR
VERSION:2.0
PRODID:-//Southeastern Community College - ECPv6.15.5//NONSGML v1.0//EN
CALSCALE:GREGORIAN
METHOD:PUBLISH
X-ORIGINAL-URL:https://sccnc.edu
X-WR-CALDESC:Events for Southeastern Community College
REFRESH-INTERVAL;VALUE=DURATION:PT1H
X-Robots-Tag:noindex
X-PUBLISHED-TTL:PT1H
BEGIN:VTIMEZONE
TZID:UTC
BEGIN:STANDARD
TZOFFSETFROM:+0000
TZOFFSETTO:+0000
TZNAME:UTC
DTSTART:20240101T000000
END:STANDARD
END:VTIMEZONE
BEGIN:VEVENT
DTSTART;VALUE=DATE:20240504
DTEND;VALUE=DATE:20240505
DTSTAMP:20260423T123532
CREATED:20240313T183352Z
LAST-MODIFIED:20240313T183352Z
UID:10000472-1714780800-1714867199@sccnc.edu
SUMMARY:Strawberry Festival
DESCRIPTION:SCC will be in the Strawberry Festival in Chadbourn\, NC.
URL:https://sccnc.edu/event/strawberry-festival/
LOCATION:NC
END:VEVENT
END:VCALENDAR