BEGIN:VCALENDAR
VERSION:2.0
PRODID:-//Southeastern Community College - ECPv6.15.5//NONSGML v1.0//EN
CALSCALE:GREGORIAN
METHOD:PUBLISH
X-ORIGINAL-URL:https://sccnc.edu
X-WR-CALDESC:Events for Southeastern Community College
REFRESH-INTERVAL;VALUE=DURATION:PT1H
X-Robots-Tag:noindex
X-PUBLISHED-TTL:PT1H
BEGIN:VTIMEZONE
TZID:UTC
BEGIN:STANDARD
TZOFFSETFROM:+0000
TZOFFSETTO:+0000
TZNAME:UTC
DTSTART:20240101T000000
END:STANDARD
END:VTIMEZONE
BEGIN:VEVENT
DTSTART;TZID=UTC:20240530T100000
DTEND;TZID=UTC:20240530T120000
DTSTAMP:20260423T130805
CREATED:20240219T164656Z
LAST-MODIFIED:20240418T160653Z
UID:10000463-1717063200-1717070400@sccnc.edu
SUMMARY:Child Development Center Graduation
DESCRIPTION:
URL:https://sccnc.edu/event/child-development-center-graduation/
LOCATION:Child Development Center
END:VEVENT
END:VCALENDAR