BEGIN:VCALENDAR
VERSION:2.0
PRODID:-//Southeastern Community College - ECPv6.15.5//NONSGML v1.0//EN
CALSCALE:GREGORIAN
METHOD:PUBLISH
X-WR-CALNAME:Southeastern Community College
X-ORIGINAL-URL:https://sccnc.edu
X-WR-CALDESC:Events for Southeastern Community College
REFRESH-INTERVAL;VALUE=DURATION:PT1H
X-Robots-Tag:noindex
X-PUBLISHED-TTL:PT1H
BEGIN:VTIMEZONE
TZID:UTC
BEGIN:STANDARD
TZOFFSETFROM:+0000
TZOFFSETTO:+0000
TZNAME:UTC
DTSTART:20240101T000000
END:STANDARD
END:VTIMEZONE
BEGIN:VEVENT
DTSTART;TZID=UTC:20240618T083000
DTEND;TZID=UTC:20240618T120000
DTSTAMP:20260423T134017
CREATED:20240515T153933Z
LAST-MODIFIED:20240515T153933Z
UID:10000491-1718699400-1718712000@sccnc.edu
SUMMARY:College4Kids
DESCRIPTION:
URL:https://sccnc.edu/event/college4kids-2/
LOCATION:NC
END:VEVENT
END:VCALENDAR