BEGIN:VCALENDAR
VERSION:2.0
PRODID:-//Southeastern Community College - ECPv6.15.5//NONSGML v1.0//EN
CALSCALE:GREGORIAN
METHOD:PUBLISH
X-WR-CALNAME:Southeastern Community College
X-ORIGINAL-URL:https://sccnc.edu
X-WR-CALDESC:Events for Southeastern Community College
REFRESH-INTERVAL;VALUE=DURATION:PT1H
X-Robots-Tag:noindex
X-PUBLISHED-TTL:PT1H
BEGIN:VTIMEZONE
TZID:UTC
BEGIN:STANDARD
TZOFFSETFROM:+0000
TZOFFSETTO:+0000
TZNAME:UTC
DTSTART:20240101T000000
END:STANDARD
END:VTIMEZONE
BEGIN:VEVENT
DTSTART;TZID=UTC:20241031T110000
DTEND;TZID=UTC:20241031T120000
DTSTAMP:20260423T041314
CREATED:20241025T162854Z
LAST-MODIFIED:20241025T162854Z
UID:10000687-1730372400-1730376000@sccnc.edu
SUMMARY:CRU Kick Off Meeting
DESCRIPTION:If you are interested in joining a campus club\, CRU may be just what you are looking for. You are invited to our kick-off meeting in Nesmith #205 (upstairs) where we will have devotion and begin planning student events for the rest of the semester. Light refreshments will be served. \nCan’t attend in person\, but still want to participate? Email kimberly.lowery@sccnc.edu for virtual options. For more information on CRU or other SCC Student Clubs\, please visit https://www.sccnc.edu/student-services/sga-clubs/ \nHope to see you soon!
URL:https://sccnc.edu/event/cru-kick-off-meeting/
LOCATION:Nesmith Student Center
END:VEVENT
BEGIN:VEVENT
DTSTART;TZID=UTC:20241031T123000
DTEND;TZID=UTC:20241031T130000
DTSTAMP:20260423T041314
CREATED:20241025T163346Z
LAST-MODIFIED:20241025T163346Z
UID:10000688-1730377800-1730379600@sccnc.edu
SUMMARY:Halloween Costume Contest
DESCRIPTION:Happy Halloween! Join us for a costume contest in the Nesmith Student Center on October 31\, from 12:30 – 1 p.m. All students and employees are welcome to participate! Prizes will be awarded to the best costumes—don’t miss out on the fun!
URL:https://sccnc.edu/event/halloween-costume-contest/
LOCATION:Nesmith Student Center
END:VEVENT
BEGIN:VEVENT
DTSTART;TZID=UTC:20241031T180000
DTEND;TZID=UTC:20241031T200000
DTSTAMP:20260423T041314
CREATED:20240820T144640Z
LAST-MODIFIED:20240820T144640Z
UID:10000581-1730397600-1730404800@sccnc.edu
SUMMARY:Trunk or Treat
DESCRIPTION:
URL:https://sccnc.edu/event/trunk-or-treat/
LOCATION:SCC Campus\, 4564 Chadbourn Hwy\, Whiteville\, 28472\, United States
END:VEVENT
END:VCALENDAR