BEGIN:VCALENDAR
VERSION:2.0
PRODID:-//Southeastern Community College - ECPv6.15.5//NONSGML v1.0//EN
CALSCALE:GREGORIAN
METHOD:PUBLISH
X-WR-CALNAME:Southeastern Community College
X-ORIGINAL-URL:https://sccnc.edu
X-WR-CALDESC:Events for Southeastern Community College
REFRESH-INTERVAL;VALUE=DURATION:PT1H
X-Robots-Tag:noindex
X-PUBLISHED-TTL:PT1H
BEGIN:VTIMEZONE
TZID:UTC
BEGIN:STANDARD
TZOFFSETFROM:+0000
TZOFFSETTO:+0000
TZNAME:UTC
DTSTART:20240101T000000
END:STANDARD
END:VTIMEZONE
BEGIN:VEVENT
DTSTART;TZID=UTC:20241102T100000
DTEND;TZID=UTC:20241102T180000
DTSTAMP:20260423T123525
CREATED:20241023T153955Z
LAST-MODIFIED:20241023T153955Z
UID:10000685-1730541600-1730570400@sccnc.edu
SUMMARY:NC Pecan Music Festival
DESCRIPTION:The NC Pecan Music Festival takes place next Saturday\, Nov. 2nd from 10am -6pm in Downtown Whiteville\, NC. \nThere will be over 75 arts and craft vendors and over 15 food vendors! Plus\, enjoy live music\, a car show\, Kids Block\, petting zoo\, beer garden and more! Learn more about the NC Pecan Music Festival at www.ncpecanfestival.com
URL:https://sccnc.edu/event/nc-pecan-music-festival/
LOCATION:NC
END:VEVENT
END:VCALENDAR