BEGIN:VCALENDAR
VERSION:2.0
PRODID:-//Southeastern Community College - ECPv6.15.5//NONSGML v1.0//EN
CALSCALE:GREGORIAN
METHOD:PUBLISH
X-WR-CALNAME:Southeastern Community College
X-ORIGINAL-URL:https://sccnc.edu
X-WR-CALDESC:Events for Southeastern Community College
REFRESH-INTERVAL;VALUE=DURATION:PT1H
X-Robots-Tag:noindex
X-PUBLISHED-TTL:PT1H
BEGIN:VTIMEZONE
TZID:UTC
BEGIN:STANDARD
TZOFFSETFROM:+0000
TZOFFSETTO:+0000
TZNAME:UTC
DTSTART:20240101T000000
END:STANDARD
END:VTIMEZONE
BEGIN:VEVENT
DTSTART;TZID=UTC:20241204T100000
DTEND;TZID=UTC:20241204T130000
DTSTAMP:20260422T091350
CREATED:20240913T180105Z
LAST-MODIFIED:20241126T172135Z
UID:10000653-1733306400-1733317200@sccnc.edu
SUMMARY:Wellness Wednesday - "Holiday Survival"
DESCRIPTION:Attend SCC’s Wellness Wednesday with an emphasis on “Holiday Survival” on December 4\, 10 am – 1 pm\, in Nesmith Student Center to learn about self-care and local resources to help navigate the season. \nTrillium Health Resources\, Coastal Horizons\, and Families First will have tables.
URL:https://sccnc.edu/event/trillium-health-resources-on-campus-3/
LOCATION:Nesmith Student Center
END:VEVENT
END:VCALENDAR