BEGIN:VCALENDAR
VERSION:2.0
PRODID:-//Southeastern Community College - ECPv6.15.5//NONSGML v1.0//EN
CALSCALE:GREGORIAN
METHOD:PUBLISH
X-ORIGINAL-URL:https://sccnc.edu
X-WR-CALDESC:Events for Southeastern Community College
REFRESH-INTERVAL;VALUE=DURATION:PT1H
X-Robots-Tag:noindex
X-PUBLISHED-TTL:PT1H
BEGIN:VTIMEZONE
TZID:UTC
BEGIN:STANDARD
TZOFFSETFROM:+0000
TZOFFSETTO:+0000
TZNAME:UTC
DTSTART:20240101T000000
END:STANDARD
END:VTIMEZONE
BEGIN:VEVENT
DTSTART;TZID=UTC:20241213T120000
DTEND;TZID=UTC:20241213T120000
DTSTAMP:20260422T070204
CREATED:20240625T163333Z
LAST-MODIFIED:20240625T163333Z
UID:10000514-1734091200-1734091200@sccnc.edu
SUMMARY:Grades Due
DESCRIPTION:
URL:https://sccnc.edu/event/grades-due-2/
LOCATION:NC
END:VEVENT
BEGIN:VEVENT
DTSTART;TZID=UTC:20241213T120000
DTEND;TZID=UTC:20241213T120000
DTSTAMP:20260422T070204
CREATED:20241106T165125Z
LAST-MODIFIED:20241106T165125Z
UID:10000702-1734091200-1734091200@sccnc.edu
SUMMARY:College Closing Early
DESCRIPTION:SCC will close at 12pm on Friday\, December 13th\, and return to normal operations on Monday\, December 16th.
URL:https://sccnc.edu/event/college-closing-early/
LOCATION:SCC Campus\, 4564 Chadbourn Hwy\, Whiteville\, 28472\, United States
END:VEVENT
END:VCALENDAR