BEGIN:VCALENDAR
VERSION:2.0
PRODID:-//Southeastern Community College - ECPv6.15.5//NONSGML v1.0//EN
CALSCALE:GREGORIAN
METHOD:PUBLISH
X-WR-CALNAME:Southeastern Community College
X-ORIGINAL-URL:https://sccnc.edu
X-WR-CALDESC:Events for Southeastern Community College
REFRESH-INTERVAL;VALUE=DURATION:PT1H
X-Robots-Tag:noindex
X-PUBLISHED-TTL:PT1H
BEGIN:VTIMEZONE
TZID:UTC
BEGIN:STANDARD
TZOFFSETFROM:+0000
TZOFFSETTO:+0000
TZNAME:UTC
DTSTART:20250101T000000
END:STANDARD
END:VTIMEZONE
BEGIN:VEVENT
DTSTART;VALUE=DATE:20250618
DTEND;VALUE=DATE:20250625
DTSTAMP:20260421T203728
CREATED:20240625T165036Z
LAST-MODIFIED:20240625T165036Z
UID:10000543-1750204800-1750809599@sccnc.edu
SUMMARY:Exam Period - 1st 5-Week Classes
DESCRIPTION:
URL:https://sccnc.edu/event/exam-period-1st-5-week-classes/
LOCATION:NC
END:VEVENT
BEGIN:VEVENT
DTSTART;TZID=UTC:20250619T080000
DTEND;TZID=UTC:20250619T120000
DTSTAMP:20260421T203728
CREATED:20250221T183022Z
LAST-MODIFIED:20250221T183318Z
UID:10001029-1750320000-1750334400@sccnc.edu
SUMMARY:College4Kids
DESCRIPTION:College4Kids is Back at SCC! Get ready for four days of fun and learning at Southeastern Community College’s College4Kids summer camp! Designed for children ages 7-12\, this enrichment camp runs from June 16-19 and features exciting hands-on classes like Basic Automotive Care\, Cybering\, Painting\, Fishing\, Mini Nurse\, and more! \nCamp Details: \n\nCost: $65 per child\nLocation: Drop-off & pick-up in front of A-Building\nTime: Drop-off starts at 7:50 AM | Pick-up by 12:15 PM\nAttire: Comfortable clothing & closed-toe shoes required\nSnacks: Provided daily (lunch not included)\n\nRegistration is required for College4Kids.
URL:https://sccnc.edu/event/college4kids-5/2025-06-19/
LOCATION:SCC Campus\, 4564 Chadbourn Hwy\, Whiteville\, 28472\, United States
END:VEVENT
END:VCALENDAR