BEGIN:VCALENDAR
VERSION:2.0
PRODID:-//Southeastern Community College - ECPv6.15.5//NONSGML v1.0//EN
CALSCALE:GREGORIAN
METHOD:PUBLISH
X-WR-CALNAME:Southeastern Community College
X-ORIGINAL-URL:https://sccnc.edu
X-WR-CALDESC:Events for Southeastern Community College
REFRESH-INTERVAL;VALUE=DURATION:PT1H
X-Robots-Tag:noindex
X-PUBLISHED-TTL:PT1H
BEGIN:VTIMEZONE
TZID:UTC
BEGIN:STANDARD
TZOFFSETFROM:+0000
TZOFFSETTO:+0000
TZNAME:UTC
DTSTART:20260101T000000
END:STANDARD
END:VTIMEZONE
BEGIN:VEVENT
DTSTART;TZID=UTC:20260422T110000
DTEND;TZID=UTC:20260422T140000
DTSTAMP:20260422T011929
CREATED:20260210T165051Z
LAST-MODIFIED:20260210T165051Z
UID:10002053-1776855600-1776866400@sccnc.edu
SUMMARY:Delicious D's
DESCRIPTION:Available for purchase. \nLocated outside of Nesmith Student Center.
URL:https://sccnc.edu/event/delicious-ds-10/2026-04-22/
LOCATION:Nesmith Student Center
END:VEVENT
BEGIN:VEVENT
DTSTART;TZID=UTC:20260422T140000
DTEND;TZID=UTC:20260422T170000
DTSTAMP:20260422T011929
CREATED:20260406T162535Z
LAST-MODIFIED:20260406T162535Z
UID:10002189-1776866400-1776877200@sccnc.edu
SUMMARY:DSS Support for SCC Students
DESCRIPTION:Dwella Hall\, DSS Director\, will be on campus in Conference Room T-127 to connect students with a variety of services offered through her agency. \nAvailable services include child and adult protective services\, food assistance\, Medicaid\, Work First family assistance\, foster care support\, and more. \nStop by to learn about resources and get personalized guidance. Open to all students and members of our campus community!
URL:https://sccnc.edu/event/dss-support/
LOCATION:T-Building
END:VEVENT
END:VCALENDAR