BEGIN:VCALENDAR
VERSION:2.0
PRODID:-//Southeastern Community College - ECPv6.15.5//NONSGML v1.0//EN
CALSCALE:GREGORIAN
METHOD:PUBLISH
X-WR-CALNAME:Southeastern Community College
X-ORIGINAL-URL:https://sccnc.edu
X-WR-CALDESC:Events for Southeastern Community College
REFRESH-INTERVAL;VALUE=DURATION:PT1H
X-Robots-Tag:noindex
X-PUBLISHED-TTL:PT1H
BEGIN:VTIMEZONE
TZID:UTC
BEGIN:STANDARD
TZOFFSETFROM:+0000
TZOFFSETTO:+0000
TZNAME:UTC
DTSTART:20260101T000000
END:STANDARD
END:VTIMEZONE
BEGIN:VEVENT
DTSTART;VALUE=DATE:20260426
DTEND;VALUE=DATE:20260503
DTSTAMP:20260423T144826
CREATED:20250916T142253Z
LAST-MODIFIED:20250916T142253Z
UID:10001491-1777161600-1777766399@sccnc.edu
SUMMARY:National Apprenticeship Week
DESCRIPTION:Southeastern Community College is proud to join the nationwide celebration of National Apprenticeship Week (NAW)! \nNAW is a time to recognize the impact of Registered Apprenticeships in building strong career pathways for students and creating a highly skilled workforce for our community. Across the country\, employers\, apprentices and graduates\, educators\, and workforce partners are showcasing the value of apprenticeships in meeting industry needs and opening doors to in-demand jobs. \nAt SCC\, apprenticeships connect learning directly to real-world experience\, giving students the chance to earn while they learn and preparing them for long-term career success. By celebrating NAW\, we’re highlighting the opportunities available here at home and the role apprenticeships play in strengthening our local economy. \nJoin us as we celebrate the future of work and the power of apprenticeships at Southeastern Community College!
URL:https://sccnc.edu/event/national-apprenticeship-week-2026/
LOCATION:NC
END:VEVENT
BEGIN:VEVENT
DTSTART;TZID=UTC:20260428T110000
DTEND;TZID=UTC:20260428T140000
DTSTAMP:20260423T144826
CREATED:20260210T164901Z
LAST-MODIFIED:20260210T164901Z
UID:10002028-1777374000-1777384800@sccnc.edu
SUMMARY:Delicious D's
DESCRIPTION:Available for purchase. \nLocated outside of Nesmith Student Center.
URL:https://sccnc.edu/event/delicious-ds-9/2026-04-28/
LOCATION:Nesmith Student Center
END:VEVENT
BEGIN:VEVENT
DTSTART;TZID=UTC:20260428T121500
DTEND;TZID=UTC:20260428T131500
DTSTAMP:20260423T144826
CREATED:20260304T155417Z
LAST-MODIFIED:20260304T155417Z
UID:10002122-1777378500-1777382100@sccnc.edu
SUMMARY:CRU Weekly Meeting
DESCRIPTION:Looking for community and conversation on campus? \nCRU brings together students from all walks of life to follow Jesus\, share experiences\, and explore His purpose for our lives. Join us for weekly meetings every Tuesday from 12:15 to 1:15 PM in CART 154. \nCome as you are. Drop ins are always welcome.
URL:https://sccnc.edu/event/cru-weekly-meeting/2026-04-28/
LOCATION:Cartrette Building
END:VEVENT
END:VCALENDAR