BEGIN:VCALENDAR
VERSION:2.0
PRODID:-//Southeastern Community College - ECPv6.15.5//NONSGML v1.0//EN
CALSCALE:GREGORIAN
METHOD:PUBLISH
X-ORIGINAL-URL:https://sccnc.edu
X-WR-CALDESC:Events for Southeastern Community College
REFRESH-INTERVAL;VALUE=DURATION:PT1H
X-Robots-Tag:noindex
X-PUBLISHED-TTL:PT1H
BEGIN:VTIMEZONE
TZID:UTC
BEGIN:STANDARD
TZOFFSETFROM:+0000
TZOFFSETTO:+0000
TZNAME:UTC
DTSTART:20260101T000000
END:STANDARD
END:VTIMEZONE
BEGIN:VEVENT
DTSTART;VALUE=DATE:20260426
DTEND;VALUE=DATE:20260503
DTSTAMP:20260425T113344
CREATED:20250916T142253Z
LAST-MODIFIED:20250916T142253Z
UID:10001491-1777161600-1777766399@sccnc.edu
SUMMARY:National Apprenticeship Week
DESCRIPTION:Southeastern Community College is proud to join the nationwide celebration of National Apprenticeship Week (NAW)! \nNAW is a time to recognize the impact of Registered Apprenticeships in building strong career pathways for students and creating a highly skilled workforce for our community. Across the country\, employers\, apprentices and graduates\, educators\, and workforce partners are showcasing the value of apprenticeships in meeting industry needs and opening doors to in-demand jobs. \nAt SCC\, apprenticeships connect learning directly to real-world experience\, giving students the chance to earn while they learn and preparing them for long-term career success. By celebrating NAW\, we’re highlighting the opportunities available here at home and the role apprenticeships play in strengthening our local economy. \nJoin us as we celebrate the future of work and the power of apprenticeships at Southeastern Community College!
URL:https://sccnc.edu/event/national-apprenticeship-week-2026/
LOCATION:NC
END:VEVENT
BEGIN:VEVENT
DTSTART;TZID=UTC:20260429T083000
DTEND;TZID=UTC:20260429T140000
DTSTAMP:20260425T113344
CREATED:20260210T194737Z
LAST-MODIFIED:20260330T142640Z
UID:10002056-1777451400-1777471200@sccnc.edu
SUMMARY:Career Expo & Apprenticeship Day
DESCRIPTION:Who’s Invited? Everyone! Our SCC students\, industry partners\, local businesses\, and all our community! \nWhat’s This All About? We’re committed to building Columbus County’s workforce. Join us to discover new employment opportunities in high-demand careers. Get matched with employers and start a career you’re passionate about today! \nFor Businesses Interested in Participating:\nParticipate in the Career Expo and meet the future of your workforce. We’re eager to welcome businesses from across all sectors to showcase your industries\, share your knowledge\, and connect with a vibrant pool of individuals ready to step into or transform their careers. \nNeed Help? Contact Us! Ken Buck\, SCC Career & Technical Education Coordinator\nken.buck@sccnc.edu | (910) 788-6239
URL:https://sccnc.edu/event/career-expo/
LOCATION:SCC Campus\, 4564 Chadbourn Hwy\, Whiteville\, 28472\, United States
END:VEVENT
BEGIN:VEVENT
DTSTART;TZID=UTC:20260429T110000
DTEND;TZID=UTC:20260429T140000
DTSTAMP:20260425T113344
CREATED:20260210T165051Z
LAST-MODIFIED:20260210T165051Z
UID:10002054-1777460400-1777471200@sccnc.edu
SUMMARY:Delicious D's
DESCRIPTION:Available for purchase. \nLocated outside of Nesmith Student Center.
URL:https://sccnc.edu/event/delicious-ds-10/2026-04-29/
LOCATION:Nesmith Student Center
END:VEVENT
END:VCALENDAR