BEGIN:VCALENDAR
VERSION:2.0
PRODID:-//Southeastern Community College - ECPv6.15.5//NONSGML v1.0//EN
CALSCALE:GREGORIAN
METHOD:PUBLISH
X-ORIGINAL-URL:https://sccnc.edu
X-WR-CALDESC:Events for Southeastern Community College
REFRESH-INTERVAL;VALUE=DURATION:PT1H
X-Robots-Tag:noindex
X-PUBLISHED-TTL:PT1H
BEGIN:VTIMEZONE
TZID:UTC
BEGIN:STANDARD
TZOFFSETFROM:+0000
TZOFFSETTO:+0000
TZNAME:UTC
DTSTART:20260101T000000
END:STANDARD
END:VTIMEZONE
BEGIN:VEVENT
DTSTART;TZID=UTC:20260514T080000
DTEND;TZID=UTC:20260514T190000
DTSTAMP:20260421T172657
CREATED:20250519T214558Z
LAST-MODIFIED:20250519T214558Z
UID:10001314-1778745600-1778785200@sccnc.edu
SUMMARY:Extended Hours
DESCRIPTION:
URL:https://sccnc.edu/event/extended-hours-18/
LOCATION:SCC Campus\, 4564 Chadbourn Hwy\, Whiteville\, 28472\, United States
END:VEVENT
BEGIN:VEVENT
DTSTART;TZID=UTC:20260514T130000
DTEND;TZID=UTC:20260514T140000
DTSTAMP:20260421T172657
CREATED:20260407T141713Z
LAST-MODIFIED:20260407T141713Z
UID:10002190-1778763600-1778767200@sccnc.edu
SUMMARY:Heavy Equipment Operator Graduation
DESCRIPTION:Date: May 14th\, 2026\nTime: 1:00 pm to 2:00 pm\nLocation: SCC Auditorium
URL:https://sccnc.edu/event/heavy-equipment-operator-graduation/
LOCATION:SCC Auditorium
END:VEVENT
END:VCALENDAR