BEGIN:VCALENDAR
VERSION:2.0
PRODID:-//Southeastern Community College - ECPv6.15.5//NONSGML v1.0//EN
CALSCALE:GREGORIAN
METHOD:PUBLISH
X-WR-CALNAME:Southeastern Community College
X-ORIGINAL-URL:https://sccnc.edu
X-WR-CALDESC:Events for Southeastern Community College
REFRESH-INTERVAL;VALUE=DURATION:PT1H
X-Robots-Tag:noindex
X-PUBLISHED-TTL:PT1H
BEGIN:VTIMEZONE
TZID:UTC
BEGIN:STANDARD
TZOFFSETFROM:+0000
TZOFFSETTO:+0000
TZNAME:UTC
DTSTART:20260101T000000
END:STANDARD
END:VTIMEZONE
BEGIN:VEVENT
DTSTART;VALUE=DATE:20260817
DTEND;VALUE=DATE:20260819
DTSTAMP:20260421T220002
CREATED:20260415T153133Z
LAST-MODIFIED:20260415T153133Z
UID:10002208-1786924800-1787097599@sccnc.edu
SUMMARY:Add Period
DESCRIPTION:
URL:https://sccnc.edu/event/add-period-7/
LOCATION:SCC Campus\, 4564 Chadbourn Hwy\, Whiteville\, 28472\, United States
END:VEVENT
BEGIN:VEVENT
DTSTART;TZID=UTC:20260818T080000
DTEND;TZID=UTC:20260818T190000
DTSTAMP:20260421T220002
CREATED:20260415T153046Z
LAST-MODIFIED:20260415T153046Z
UID:10002206-1787040000-1787079600@sccnc.edu
SUMMARY:Extended Hours
DESCRIPTION:We’re open until 7pm to get your registered!
URL:https://sccnc.edu/event/extended-hours-21/2026-08-18/
LOCATION:SCC Campus\, 4564 Chadbourn Hwy\, Whiteville\, 28472\, United States
END:VEVENT
END:VCALENDAR