BEGIN:VCALENDAR
VERSION:2.0
PRODID:-//Southeastern Community College - ECPv6.15.5//NONSGML v1.0//EN
CALSCALE:GREGORIAN
METHOD:PUBLISH
X-ORIGINAL-URL:https://sccnc.edu
X-WR-CALDESC:Events for Southeastern Community College
REFRESH-INTERVAL;VALUE=DURATION:PT1H
X-Robots-Tag:noindex
X-PUBLISHED-TTL:PT1H
BEGIN:VTIMEZONE
TZID:UTC
BEGIN:STANDARD
TZOFFSETFROM:+0000
TZOFFSETTO:+0000
TZNAME:UTC
DTSTART:20270101T000000
END:STANDARD
END:VTIMEZONE
BEGIN:VEVENT
DTSTART;VALUE=DATE:20270101
DTEND;VALUE=DATE:20270102
DTSTAMP:20260423T050717
CREATED:20260415T154437Z
LAST-MODIFIED:20260415T154437Z
UID:10002227-1798761600-1798847999@sccnc.edu
SUMMARY:Holiday - New Years
DESCRIPTION:College Closed
URL:https://sccnc.edu/event/holiday-new-years/
LOCATION:SCC Campus\, 4564 Chadbourn Hwy\, Whiteville\, 28472\, United States
END:VEVENT
BEGIN:VEVENT
DTSTART;VALUE=DATE:20270104
DTEND;VALUE=DATE:20270105
DTSTAMP:20260423T050717
CREATED:20260415T154501Z
LAST-MODIFIED:20260415T154501Z
UID:10002228-1799020800-1799107199@sccnc.edu
SUMMARY:College Closed to Public
DESCRIPTION:
URL:https://sccnc.edu/event/college-closed-to-public-5/
LOCATION:SCC Campus\, 4564 Chadbourn Hwy\, Whiteville\, 28472\, United States
END:VEVENT
BEGIN:VEVENT
DTSTART;VALUE=DATE:20270104
DTEND;VALUE=DATE:20270109
DTSTAMP:20260423T050717
CREATED:20260415T155157Z
LAST-MODIFIED:20260415T155157Z
UID:10002238-1799020800-1799452799@sccnc.edu
SUMMARY:Faculty Campus Days
DESCRIPTION:
URL:https://sccnc.edu/event/faculty-campus-days-7/
LOCATION:SCC Campus\, 4564 Chadbourn Hwy\, Whiteville\, 28472\, United States
END:VEVENT
BEGIN:VEVENT
DTSTART;TZID=UTC:20270106T080000
DTEND;TZID=UTC:20270106T190000
DTSTAMP:20260423T050717
CREATED:20260415T154523Z
LAST-MODIFIED:20260415T154734Z
UID:10002230-1799222400-1799262000@sccnc.edu
SUMMARY:Extended Hours
DESCRIPTION:We’re open until 7pm to help get you registered!
URL:https://sccnc.edu/event/faculty-campus-days-6/2027-01-06/
LOCATION:SCC Campus\, 4564 Chadbourn Hwy\, Whiteville\, 28472\, United States
END:VEVENT
BEGIN:VEVENT
DTSTART;TZID=UTC:20270107T080000
DTEND;TZID=UTC:20270107T190000
DTSTAMP:20260423T050717
CREATED:20260415T154523Z
LAST-MODIFIED:20260415T154734Z
UID:10002231-1799308800-1799348400@sccnc.edu
SUMMARY:Extended Hours
DESCRIPTION:We’re open until 7pm to help get you registered!
URL:https://sccnc.edu/event/faculty-campus-days-6/2027-01-07/
LOCATION:SCC Campus\, 4564 Chadbourn Hwy\, Whiteville\, 28472\, United States
END:VEVENT
BEGIN:VEVENT
DTSTART;VALUE=DATE:20270111
DTEND;VALUE=DATE:20270112
DTSTAMP:20260423T050717
CREATED:20260415T154801Z
LAST-MODIFIED:20260415T154801Z
UID:10002234-1799625600-1799711999@sccnc.edu
SUMMARY:Classes Begin
DESCRIPTION:
URL:https://sccnc.edu/event/classes-begin-6/
LOCATION:SCC Campus\, 4564 Chadbourn Hwy\, Whiteville\, 28472\, United States
END:VEVENT
BEGIN:VEVENT
DTSTART;VALUE=DATE:20270111
DTEND;VALUE=DATE:20270112
DTSTAMP:20260423T050717
CREATED:20260415T154837Z
LAST-MODIFIED:20260415T154924Z
UID:10002235-1799625600-1799711999@sccnc.edu
SUMMARY:A-Term Classes Begin
DESCRIPTION:
URL:https://sccnc.edu/event/add-period-8/
LOCATION:SCC Campus\, 4564 Chadbourn Hwy\, Whiteville\, 28472\, United States
END:VEVENT
BEGIN:VEVENT
DTSTART;VALUE=DATE:20270111
DTEND;VALUE=DATE:20270113
DTSTAMP:20260423T050717
CREATED:20260415T155249Z
LAST-MODIFIED:20260415T155249Z
UID:10002239-1799625600-1799798399@sccnc.edu
SUMMARY:Add Period
DESCRIPTION:
URL:https://sccnc.edu/event/add-period-9/
LOCATION:SCC Campus\, 4564 Chadbourn Hwy\, Whiteville\, 28472\, United States
END:VEVENT
BEGIN:VEVENT
DTSTART;TZID=UTC:20270111T080000
DTEND;TZID=UTC:20270111T190000
DTSTAMP:20260423T050717
CREATED:20260415T154523Z
LAST-MODIFIED:20260415T154734Z
UID:10002232-1799654400-1799694000@sccnc.edu
SUMMARY:Extended Hours
DESCRIPTION:We’re open until 7pm to help get you registered!
URL:https://sccnc.edu/event/faculty-campus-days-6/2027-01-11/
LOCATION:SCC Campus\, 4564 Chadbourn Hwy\, Whiteville\, 28472\, United States
END:VEVENT
BEGIN:VEVENT
DTSTART;TZID=UTC:20270112T080000
DTEND;TZID=UTC:20270112T190000
DTSTAMP:20260423T050717
CREATED:20260415T154523Z
LAST-MODIFIED:20260415T154734Z
UID:10002233-1799740800-1799780400@sccnc.edu
SUMMARY:Extended Hours
DESCRIPTION:We’re open until 7pm to help get you registered!
URL:https://sccnc.edu/event/faculty-campus-days-6/2027-01-12/
LOCATION:SCC Campus\, 4564 Chadbourn Hwy\, Whiteville\, 28472\, United States
END:VEVENT
BEGIN:VEVENT
DTSTART;VALUE=DATE:20270118
DTEND;VALUE=DATE:20270119
DTSTAMP:20260423T050717
CREATED:20260415T154949Z
LAST-MODIFIED:20260415T154949Z
UID:10002236-1800230400-1800316799@sccnc.edu
SUMMARY:Holiday – Martin Luther King\, Jr. Day
DESCRIPTION:College Closed
URL:https://sccnc.edu/event/holiday-martin-luther-king-jr-day-3/
LOCATION:SCC Campus\, 4564 Chadbourn Hwy\, Whiteville\, 28472\, United States
END:VEVENT
BEGIN:VEVENT
DTSTART;VALUE=DATE:20270126
DTEND;VALUE=DATE:20270127
DTSTAMP:20260423T050717
CREATED:20260415T155028Z
LAST-MODIFIED:20260415T155028Z
UID:10002237-1800921600-1801007999@sccnc.edu
SUMMARY:13-Week Classes Begin
DESCRIPTION:
URL:https://sccnc.edu/event/13-week-classes-begin-6/
LOCATION:SCC Campus\, 4564 Chadbourn Hwy\, Whiteville\, 28472\, United States
END:VEVENT
BEGIN:VEVENT
DTSTART;VALUE=DATE:20270202
DTEND;VALUE=DATE:20270203
DTSTAMP:20260423T050717
CREATED:20260415T155351Z
LAST-MODIFIED:20260415T155505Z
UID:10002240-1801526400-1801612799@sccnc.edu
SUMMARY:12-Week Classes Begin
DESCRIPTION:
URL:https://sccnc.edu/event/12-week-classes-begin-6/
LOCATION:SCC Campus\, 4564 Chadbourn Hwy\, Whiteville\, 28472\, United States
END:VEVENT
BEGIN:VEVENT
DTSTART;VALUE=DATE:20270226
DTEND;VALUE=DATE:20270305
DTSTAMP:20260423T050717
CREATED:20260415T155412Z
LAST-MODIFIED:20260415T155412Z
UID:10002241-1803600000-1804204799@sccnc.edu
SUMMARY:Exam Period – A-Term Classes
DESCRIPTION:
URL:https://sccnc.edu/event/exam-period-a-term-classes-6/
LOCATION:SCC Campus\, 4564 Chadbourn Hwy\, Whiteville\, 28472\, United States
END:VEVENT
BEGIN:VEVENT
DTSTART;VALUE=DATE:20270301
DTEND;VALUE=DATE:20270302
DTSTAMP:20260423T050717
CREATED:20260415T155437Z
LAST-MODIFIED:20260415T155437Z
UID:10002242-1803859200-1803945599@sccnc.edu
SUMMARY:Student Wellness Day
DESCRIPTION:College Closed to Public
URL:https://sccnc.edu/event/student-wellness-day-6/
LOCATION:SCC Campus\, 4564 Chadbourn Hwy\, Whiteville\, 28472\, United States
END:VEVENT
BEGIN:VEVENT
DTSTART;VALUE=DATE:20270308
DTEND;VALUE=DATE:20270309
DTSTAMP:20260423T050717
CREATED:20260415T155541Z
LAST-MODIFIED:20260415T155541Z
UID:10002243-1804464000-1804550399@sccnc.edu
SUMMARY:B-Term Classes Begin
DESCRIPTION:
URL:https://sccnc.edu/event/b-term-classes-begin-6/
LOCATION:SCC Campus\, 4564 Chadbourn Hwy\, Whiteville\, 28472\, United States
END:VEVENT
BEGIN:VEVENT
DTSTART;VALUE=DATE:20270315
DTEND;VALUE=DATE:20270403
DTSTAMP:20260423T050717
CREATED:20260415T155603Z
LAST-MODIFIED:20260415T155603Z
UID:10002244-1805068800-1806710399@sccnc.edu
SUMMARY:Summer/Fall Priority Registration
DESCRIPTION:
URL:https://sccnc.edu/event/summer-fall-priority-registration/
LOCATION:SCC Campus\, 4564 Chadbourn Hwy\, Whiteville\, 28472\, United States
END:VEVENT
BEGIN:VEVENT
DTSTART;VALUE=DATE:20270326
DTEND;VALUE=DATE:20270327
DTSTAMP:20260423T050717
CREATED:20260415T155626Z
LAST-MODIFIED:20260415T155626Z
UID:10002245-1806019200-1806105599@sccnc.edu
SUMMARY:Holiday – Good Friday
DESCRIPTION:College Closed
URL:https://sccnc.edu/event/holiday-good-friday-3/
LOCATION:SCC Campus\, 4564 Chadbourn Hwy\, Whiteville\, 28472\, United States
END:VEVENT
BEGIN:VEVENT
DTSTART;VALUE=DATE:20270329
DTEND;VALUE=DATE:20270403
DTSTAMP:20260423T050717
CREATED:20260415T155649Z
LAST-MODIFIED:20260415T155649Z
UID:10002246-1806278400-1806710399@sccnc.edu
SUMMARY:Spring Break
DESCRIPTION:
URL:https://sccnc.edu/event/spring-break-8/
LOCATION:SCC Campus\, 4564 Chadbourn Hwy\, Whiteville\, 28472\, United States
END:VEVENT
BEGIN:VEVENT
DTSTART;VALUE=DATE:20270405
DTEND;VALUE=DATE:20270406
DTSTAMP:20260423T050717
CREATED:20260415T155748Z
LAST-MODIFIED:20260415T155748Z
UID:10002247-1806883200-1806969599@sccnc.edu
SUMMARY:Registration Begins for Summer/Fall
DESCRIPTION:
URL:https://sccnc.edu/event/registration-begins-for-summer-fall-3/
LOCATION:SCC Campus\, 4564 Chadbourn Hwy\, Whiteville\, 28472\, United States
END:VEVENT
BEGIN:VEVENT
DTSTART;VALUE=DATE:20270429
DTEND;VALUE=DATE:20270506
DTSTAMP:20260423T050717
CREATED:20260415T155814Z
LAST-MODIFIED:20260415T155814Z
UID:10002248-1808956800-1809561599@sccnc.edu
SUMMARY:Exam Period
DESCRIPTION:Full\, 12-Week\, 13-Week & B-Term Classes
URL:https://sccnc.edu/event/exam-period-16/
LOCATION:SCC Campus\, 4564 Chadbourn Hwy\, Whiteville\, 28472\, United States
END:VEVENT
BEGIN:VEVENT
DTSTART;VALUE=DATE:20270505
DTEND;VALUE=DATE:20270506
DTSTAMP:20260423T050717
CREATED:20260415T155848Z
LAST-MODIFIED:20260415T155848Z
UID:10002249-1809475200-1809561599@sccnc.edu
SUMMARY:End of Semester
DESCRIPTION:
URL:https://sccnc.edu/event/end-of-semester-9/
LOCATION:SCC Campus\, 4564 Chadbourn Hwy\, Whiteville\, 28472\, United States
END:VEVENT
BEGIN:VEVENT
DTSTART;VALUE=DATE:20270506
DTEND;VALUE=DATE:20270508
DTSTAMP:20260423T050717
CREATED:20260415T155932Z
LAST-MODIFIED:20260415T155932Z
UID:10002251-1809561600-1809734399@sccnc.edu
SUMMARY:Faculty Campus Days
DESCRIPTION:
URL:https://sccnc.edu/event/faculty-campus-days-8/
LOCATION:SCC Campus\, 4564 Chadbourn Hwy\, Whiteville\, 28472\, United States
END:VEVENT
BEGIN:VEVENT
DTSTART;TZID=UTC:20270506T120000
DTEND;TZID=UTC:20270506T120000
DTSTAMP:20260423T050717
CREATED:20260415T155912Z
LAST-MODIFIED:20260415T155912Z
UID:10002250-1809604800-1809604800@sccnc.edu
SUMMARY:Grades due by 12 Noon
DESCRIPTION:
URL:https://sccnc.edu/event/grades-due-by-12-noon-4/
LOCATION:SCC Campus\, 4564 Chadbourn Hwy\, Whiteville\, 28472\, United States
END:VEVENT
BEGIN:VEVENT
DTSTART;TZID=UTC:20270507T090000
DTEND;TZID=UTC:20270507T120000
DTSTAMP:20260423T050717
CREATED:20260415T160018Z
LAST-MODIFIED:20260415T160018Z
UID:10002252-1809680400-1809691200@sccnc.edu
SUMMARY:Graduation
DESCRIPTION:
URL:https://sccnc.edu/event/graduation-3/
LOCATION:SCC Campus\, 4564 Chadbourn Hwy\, Whiteville\, 28472\, United States
END:VEVENT
BEGIN:VEVENT
DTSTART;TZID=UTC:20270512T080000
DTEND;TZID=UTC:20270512T190000
DTSTAMP:20260423T050717
CREATED:20260415T160214Z
LAST-MODIFIED:20260415T160214Z
UID:10002254-1810108800-1810148400@sccnc.edu
SUMMARY:Extended Hours
DESCRIPTION:We’re open until 7pm to help get you registered!
URL:https://sccnc.edu/event/extended-hours-22/2027-05-12/
LOCATION:SCC Campus\, 4564 Chadbourn Hwy\, Whiteville\, 28472\, United States
END:VEVENT
BEGIN:VEVENT
DTSTART;TZID=UTC:20270513T080000
DTEND;TZID=UTC:20270513T190000
DTSTAMP:20260423T050717
CREATED:20260415T160214Z
LAST-MODIFIED:20260415T160214Z
UID:10002255-1810195200-1810234800@sccnc.edu
SUMMARY:Extended Hours
DESCRIPTION:We’re open until 7pm to help get you registered!
URL:https://sccnc.edu/event/extended-hours-22/2027-05-13/
LOCATION:SCC Campus\, 4564 Chadbourn Hwy\, Whiteville\, 28472\, United States
END:VEVENT
BEGIN:VEVENT
DTSTART;VALUE=DATE:20270517
DTEND;VALUE=DATE:20270518
DTSTAMP:20260423T050717
CREATED:20260415T160234Z
LAST-MODIFIED:20260415T160234Z
UID:10002258-1810512000-1810598399@sccnc.edu
SUMMARY:1st 5-Week Classes Begin
DESCRIPTION:
URL:https://sccnc.edu/event/1st-5-week-classes-begin-2/
LOCATION:SCC Campus\, 4564 Chadbourn Hwy\, Whiteville\, 28472\, United States
END:VEVENT
BEGIN:VEVENT
DTSTART;VALUE=DATE:20270517
DTEND;VALUE=DATE:20270518
DTSTAMP:20260423T050717
CREATED:20260415T160302Z
LAST-MODIFIED:20260415T160302Z
UID:10002259-1810512000-1810598399@sccnc.edu
SUMMARY:10-Week Classes Begin
DESCRIPTION:
URL:https://sccnc.edu/event/10-week-classes-begin-2/
LOCATION:SCC Campus\, 4564 Chadbourn Hwy\, Whiteville\, 28472\, United States
END:VEVENT
BEGIN:VEVENT
DTSTART;TZID=UTC:20270517T080000
DTEND;TZID=UTC:20270517T190000
DTSTAMP:20260423T050717
CREATED:20260415T160214Z
LAST-MODIFIED:20260415T160214Z
UID:10002256-1810540800-1810580400@sccnc.edu
SUMMARY:Extended Hours
DESCRIPTION:We’re open until 7pm to help get you registered!
URL:https://sccnc.edu/event/extended-hours-22/2027-05-17/
LOCATION:SCC Campus\, 4564 Chadbourn Hwy\, Whiteville\, 28472\, United States
END:VEVENT
END:VCALENDAR