BEGIN:VCALENDAR
VERSION:2.0
PRODID:-//Southeastern Community College - ECPv6.15.5//NONSGML v1.0//EN
CALSCALE:GREGORIAN
METHOD:PUBLISH
X-ORIGINAL-URL:https://sccnc.edu
X-WR-CALDESC:Events for Southeastern Community College
REFRESH-INTERVAL;VALUE=DURATION:PT1H
X-Robots-Tag:noindex
X-PUBLISHED-TTL:PT1H
BEGIN:VTIMEZONE
TZID:UTC
BEGIN:STANDARD
TZOFFSETFROM:+0000
TZOFFSETTO:+0000
TZNAME:UTC
DTSTART:20250101T000000
END:STANDARD
END:VTIMEZONE
BEGIN:VEVENT
DTSTART;TZID=UTC:20260421T180000
DTEND;TZID=UTC:20260421T190000
DTSTAMP:20260422T233331
CREATED:20260330T142550Z
LAST-MODIFIED:20260330T142550Z
UID:10002137-1776794400-1776798000@sccnc.edu
SUMMARY:PTK Induction
DESCRIPTION:Date: April 21\, 2026\nTime: 6:00 pm\nLocation: SCC Auditorium
URL:https://sccnc.edu/event/ptk-induction/
LOCATION:SCC Auditorium
END:VEVENT
BEGIN:VEVENT
DTSTART;TZID=UTC:20260418T140000
DTEND;TZID=UTC:20260418T150000
DTSTAMP:20260422T233331
CREATED:20260317T135527Z
LAST-MODIFIED:20260317T135527Z
UID:10002129-1776520800-1776524400@sccnc.edu
SUMMARY:BLET Graduation
DESCRIPTION:Date: April 18\, 2026\nTime: 2:00 pm\nLocation: SCC Auditorium
URL:https://sccnc.edu/event/blet-graduation-3/
LOCATION:SCC Auditorium
END:VEVENT
BEGIN:VEVENT
DTSTART;TZID=UTC:20260416T180000
DTEND;TZID=UTC:20260416T200000
DTSTAMP:20260422T233331
CREATED:20260225T134329Z
LAST-MODIFIED:20260225T134329Z
UID:10002069-1776362400-1776369600@sccnc.edu
SUMMARY:National Technical Honor Society Induction Ceremony
DESCRIPTION:The 2025 2026 National Technical Honor Society Induction Ceremony will be held on Thursday\, April 16\, 2026\, from 6:00 to 8:00 PM in the SCC Auditorium. \nThe National Technical Honor Society recognizes students who have demonstrated excellence in career and technical education programs.
URL:https://sccnc.edu/event/national-technical-honor-society-induction-ceremony/
LOCATION:SCC Auditorium
END:VEVENT
BEGIN:VEVENT
DTSTART;TZID=UTC:20260331T183000
DTEND;TZID=UTC:20260331T193000
DTSTAMP:20260422T233331
CREATED:20260305T210137Z
LAST-MODIFIED:20260305T210137Z
UID:10002124-1774981800-1774985400@sccnc.edu
SUMMARY:SCC's High School Summer Camps Interest Night
DESCRIPTION:High school students and families are invited to join us for SCC’s High School Summer Camps Interest Night on March 31 from 6:30 pm to 7:30 pm in the SCC Auditorium! \nThis information session will highlight the many opportunities available for high school students at Southeastern Community College this summer. From summer courses and hands on camps to specialized programs like NC HE²ALS\, PILLS. Academy\, and pre-apprenticeship experiences\, students can discover ways to explore careers\, build skills\, and get a head start on their future. \nWhether students are interested in healthcare\, skilled trades\, college transfer\, or simply exploring new interests\, this session will provide an overview of the many ways SCC helps high school students open doors to opportunity. Students\, parents\, and guardians are encouraged to attend to learn how to make the most of summer at SCC.
URL:https://sccnc.edu/event/sccs-high-school-summer-camps-interest-night/
LOCATION:SCC Auditorium
END:VEVENT
BEGIN:VEVENT
DTSTART;TZID=UTC:20260317T130000
DTEND;TZID=UTC:20260317T140000
DTSTAMP:20260422T233331
CREATED:20260211T220234Z
LAST-MODIFIED:20260211T220234Z
UID:10002060-1773752400-1773756000@sccnc.edu
SUMMARY:Truck Driver Graduation
DESCRIPTION:Date: March 17th\, 2026\nTime: 1:00 pm to 2:00 pm\nLocation: SCC Auditorium
URL:https://sccnc.edu/event/truck-driver-graduation-4/
LOCATION:SCC Auditorium
END:VEVENT
BEGIN:VEVENT
DTSTART;TZID=UTC:20260223T131500
DTEND;TZID=UTC:20260223T141500
DTSTAMP:20260422T233331
CREATED:20260205T192934Z
LAST-MODIFIED:20260205T192958Z
UID:10001991-1771852500-1771856100@sccnc.edu
SUMMARY:Black History Month Panel Event
DESCRIPTION:
URL:https://sccnc.edu/event/black-history-month-panel-event/
LOCATION:SCC Auditorium
END:VEVENT
BEGIN:VEVENT
DTSTART;TZID=UTC:20260212T123000
DTEND;TZID=UTC:20260212T125000
DTSTAMP:20260422T233331
CREATED:20260108T193954Z
LAST-MODIFIED:20260108T193954Z
UID:10001976-1770899400-1770900600@sccnc.edu
SUMMARY:Breathing and Mobility Break
DESCRIPTION:Students and faculty are invited to join us in the auditorium for a breathing and mobility break. Bring a towel or yoga mat and take time to stretch\, breathe\, and reset.
URL:https://sccnc.edu/event/breathing-and-mobility-break/
LOCATION:SCC Auditorium
END:VEVENT
BEGIN:VEVENT
DTSTART;TZID=UTC:20260210T120000
DTEND;TZID=UTC:20260210T130000
DTSTAMP:20260422T233331
CREATED:20260108T194603Z
LAST-MODIFIED:20260108T194603Z
UID:10001977-1770724800-1770728400@sccnc.edu
SUMMARY:Valentine's Day Trivia
DESCRIPTION:Think you know all things Valentine’s Day? Join us for trivia\, laughs\, and a little friendly competition.
URL:https://sccnc.edu/event/valentines-day-trivia/
LOCATION:SCC Auditorium
END:VEVENT
BEGIN:VEVENT
DTSTART;TZID=UTC:20260120T110000
DTEND;TZID=UTC:20260120T120000
DTSTAMP:20260422T233331
CREATED:20260108T193331Z
LAST-MODIFIED:20260108T193348Z
UID:10001975-1768906800-1768910400@sccnc.edu
SUMMARY:MLK Celebration Event
DESCRIPTION:Join us in honoring Dr. Martin Luther King Jr. with a special celebration featuring keynote speaker Marcus Bass\, Deputy Director of the North Carolina Black Alliance and Executive Director of Advance North Carolina. Light refreshments will follow.
URL:https://sccnc.edu/event/mlk-celebration-event/
LOCATION:SCC Auditorium
END:VEVENT
BEGIN:VEVENT
DTSTART;TZID=UTC:20251218T173000
DTEND;TZID=UTC:20251218T183000
DTSTAMP:20260422T233331
CREATED:20251205T193644Z
LAST-MODIFIED:20251205T193644Z
UID:10001957-1766079000-1766082600@sccnc.edu
SUMMARY:Transitional Studies Graduation
DESCRIPTION:
URL:https://sccnc.edu/event/transitional-studies-graduation/
LOCATION:SCC Auditorium
END:VEVENT
BEGIN:VEVENT
DTSTART;TZID=UTC:20251215T130000
DTEND;TZID=UTC:20251215T140000
DTSTAMP:20260422T233331
CREATED:20251117T171122Z
LAST-MODIFIED:20251117T171122Z
UID:10001950-1765803600-1765807200@sccnc.edu
SUMMARY:Truck Driver Training Graduation
DESCRIPTION:
URL:https://sccnc.edu/event/truck-driver-training-graduation/
LOCATION:SCC Auditorium
END:VEVENT
BEGIN:VEVENT
DTSTART;TZID=UTC:20251211T180000
DTEND;TZID=UTC:20251211T193000
DTSTAMP:20260422T233331
CREATED:20251110T220454Z
LAST-MODIFIED:20251110T220454Z
UID:10001943-1765476000-1765481400@sccnc.edu
SUMMARY:Practical Nursing Pinning Ceremony
DESCRIPTION:
URL:https://sccnc.edu/event/pn-pinning-ceremony/
LOCATION:SCC Auditorium
END:VEVENT
BEGIN:VEVENT
DTSTART;TZID=UTC:20251211T130000
DTEND;TZID=UTC:20251211T140000
DTSTAMP:20260422T233331
CREATED:20251117T162430Z
LAST-MODIFIED:20251124T155012Z
UID:10001945-1765458000-1765461600@sccnc.edu
SUMMARY:Electrical Lineman Program Graduation
DESCRIPTION:
URL:https://sccnc.edu/event/electrical-lineman-program-graduation/
LOCATION:SCC Auditorium
END:VEVENT
BEGIN:VEVENT
DTSTART;TZID=UTC:20251021T180000
DTEND;TZID=UTC:20251021T200000
DTSTAMP:20260422T233331
CREATED:20250918T124614Z
LAST-MODIFIED:20250918T124614Z
UID:10001492-1761069600-1761076800@sccnc.edu
SUMMARY:Career & College Promise Interest Night
DESCRIPTION:Your future starts at SCC! Discover how CCP helps you earn college credit in high school\, save money\, and move closer to your dream career. Open to all 9th – 11th graders! \n\nLearn how you can earn college credit in high school\nMeet 1 : 1 with your CCP advisor\nExplore University Transfer and Technical pathways\nSave time and money on your future degree\n\nRegister today!
URL:https://sccnc.edu/event/career-college-promise-interest-night/
LOCATION:SCC Auditorium
END:VEVENT
BEGIN:VEVENT
DTSTART;TZID=UTC:20250806T090000
DTEND;TZID=UTC:20250806T114000
DTSTAMP:20260422T233331
CREATED:20250709T191622Z
LAST-MODIFIED:20250730T172927Z
UID:10001347-1754470800-1754480400@sccnc.edu
SUMMARY:New Student Orientation
DESCRIPTION:SCC’s New Student Orientation is your guide to a successful start. The orientation is filled with important information and resources needed to be successful during your time as a student. \nYou’ll meet instructors from your program area\, learn about financial aid\, find out where your classes are located\, learn about essential campus resources and activities\, meet other new students\, and much more! \nAugust 6\, 2025 \nCheck-In: Auditorium \n9:00 AM – 9:30 AM: Light Breakfast & Optional Campus Tour \n9:30 AM -11:40 AM: Orientation
URL:https://sccnc.edu/event/new-student-orientation-2/
LOCATION:SCC Auditorium
END:VEVENT
BEGIN:VEVENT
DTSTART;TZID=UTC:20250804T130000
DTEND;TZID=UTC:20250804T150000
DTSTAMP:20260422T233331
CREATED:20250708T194630Z
LAST-MODIFIED:20250708T194722Z
UID:10001345-1754312400-1754319600@sccnc.edu
SUMMARY:Caregiver Academy: Support & Strategies for Caregivers
DESCRIPTION:Join AARP\, LifeCare Memory Partners\, the Alzheimer’s Association\, and the Cape Fear Area Agency on Aging for a free educational event offering support and strategies for those caring for individuals with Alzheimer’s or related dementias. Whether you’re a caregiver or supporting someone who is\, this session offers valuable insights and resources. Family and friends are welcome. Located in SCC’s Auditorium. \nRSVP by July 28 by calling (910) 788-6324.
URL:https://sccnc.edu/event/caregiver-academy-support-strategies-for-caregivers/
LOCATION:SCC Auditorium
END:VEVENT
BEGIN:VEVENT
DTSTART;TZID=UTC:20250730T150000
DTEND;TZID=UTC:20250730T160000
DTSTAMP:20260422T233331
CREATED:20250707T133618Z
LAST-MODIFIED:20250707T133701Z
UID:10001344-1753887600-1753891200@sccnc.edu
SUMMARY:High School Summer Camp Graduation
DESCRIPTION:
URL:https://sccnc.edu/event/high-school-summer-camp-graduation/
LOCATION:SCC Auditorium
END:VEVENT
BEGIN:VEVENT
DTSTART;TZID=UTC:20250729T130000
DTEND;TZID=UTC:20250729T140000
DTSTAMP:20260422T233331
CREATED:20250724T145658Z
LAST-MODIFIED:20250724T145658Z
UID:10001349-1753794000-1753797600@sccnc.edu
SUMMARY:Truck Driver Graduation
DESCRIPTION:
URL:https://sccnc.edu/event/truck-driver-graduation-3/
LOCATION:SCC Auditorium
END:VEVENT
BEGIN:VEVENT
DTSTART;TZID=UTC:20250610T180000
DTEND;TZID=UTC:20250610T190000
DTSTAMP:20260422T233331
CREATED:20250605T163733Z
LAST-MODIFIED:20250605T163733Z
UID:10001340-1749578400-1749582000@sccnc.edu
SUMMARY:Basic Law Enforcement Training Graduation
DESCRIPTION:
URL:https://sccnc.edu/event/basic-law-enforcement-training-graduation/
LOCATION:SCC Auditorium
END:VEVENT
BEGIN:VEVENT
DTSTART;TZID=UTC:20250527T093000
DTEND;TZID=UTC:20250527T103000
DTSTAMP:20260422T233331
CREATED:20250326T195136Z
LAST-MODIFIED:20250326T195136Z
UID:10001256-1748338200-1748341800@sccnc.edu
SUMMARY:Child Development Center Graduation
DESCRIPTION:
URL:https://sccnc.edu/event/child-development-center-graduation-2/
LOCATION:SCC Auditorium
END:VEVENT
BEGIN:VEVENT
DTSTART;TZID=UTC:20250514T180000
DTEND;TZID=UTC:20250514T200000
DTSTAMP:20260422T233331
CREATED:20250221T165228Z
LAST-MODIFIED:20250221T165228Z
UID:10000768-1747245600-1747252800@sccnc.edu
SUMMARY:MLT/Phlebotomy Pinning Ceremony
DESCRIPTION:
URL:https://sccnc.edu/event/mlt-phlebotomy-pinning-ceremony/
LOCATION:SCC Auditorium
END:VEVENT
BEGIN:VEVENT
DTSTART;TZID=UTC:20250513T180000
DTEND;TZID=UTC:20250513T200000
DTSTAMP:20260422T233331
CREATED:20250109T131712Z
LAST-MODIFIED:20250109T131712Z
UID:10000726-1747159200-1747166400@sccnc.edu
SUMMARY:ADN Pinning
DESCRIPTION:
URL:https://sccnc.edu/event/adn-pinning-2/
LOCATION:SCC Auditorium
END:VEVENT
BEGIN:VEVENT
DTSTART;TZID=UTC:20250508T183000
DTEND;TZID=UTC:20250508T193000
DTSTAMP:20260422T233331
CREATED:20250317T153401Z
LAST-MODIFIED:20250317T153401Z
UID:10001254-1746729000-1746732600@sccnc.edu
SUMMARY:2025 High School ETS Graduate Event
DESCRIPTION:
URL:https://sccnc.edu/event/2025-high-school-ets-graduate-event/
LOCATION:SCC Auditorium
END:VEVENT
BEGIN:VEVENT
DTSTART;TZID=UTC:20250502T190000
DTEND;TZID=UTC:20250502T200000
DTSTAMP:20260422T233331
CREATED:20250221T165114Z
LAST-MODIFIED:20250408T152847Z
UID:10000767-1746212400-1746216000@sccnc.edu
SUMMARY:Fire Academy Graduation
DESCRIPTION:
URL:https://sccnc.edu/event/fire-academy-graduation-2/
LOCATION:SCC Auditorium
END:VEVENT
BEGIN:VEVENT
DTSTART;TZID=UTC:20250430T140000
DTEND;TZID=UTC:20250430T150000
DTSTAMP:20260422T233331
CREATED:20250306T214447Z
LAST-MODIFIED:20250306T214447Z
UID:10001250-1746021600-1746025200@sccnc.edu
SUMMARY:North Carolina Governor's Volunteer Service Award Ceremony
DESCRIPTION:
URL:https://sccnc.edu/event/north-carolina-governors-volunteer-service-award-ceremony/
LOCATION:SCC Auditorium
END:VEVENT
BEGIN:VEVENT
DTSTART;TZID=UTC:20250429T180000
DTEND;TZID=UTC:20250429T200000
DTSTAMP:20260422T233331
CREATED:20241217T192039Z
LAST-MODIFIED:20250221T164226Z
UID:10000718-1745949600-1745956800@sccnc.edu
SUMMARY:Student Awards
DESCRIPTION:Join us in the Auditorium to celebrate and recognize our students who have received awards from instructors and staff. It’s a time to honor their hard work and achievements. \nLet’s come together to show support and appreciation for their success!
URL:https://sccnc.edu/event/student-awards/
LOCATION:SCC Auditorium
END:VEVENT
BEGIN:VEVENT
DTSTART;TZID=UTC:20250410T180000
DTEND;TZID=UTC:20250410T200000
DTSTAMP:20260422T233331
CREATED:20250219T173025Z
LAST-MODIFIED:20250219T173025Z
UID:10000762-1744308000-1744315200@sccnc.edu
SUMMARY:National Technical Society Induction Ceremony
DESCRIPTION:Save the date for our National Technical Society Induction Ceremony\, April 10th\, 6-8pm in the Auditorium!
URL:https://sccnc.edu/event/national-technical-society-induction-ceremony/
LOCATION:SCC Auditorium
END:VEVENT
BEGIN:VEVENT
DTSTART;TZID=UTC:20250327T133000
DTEND;TZID=UTC:20250327T143000
DTSTAMP:20260422T233331
CREATED:20250307T193804Z
LAST-MODIFIED:20250307T193921Z
UID:10001252-1743082200-1743085800@sccnc.edu
SUMMARY:Women's History Month Presentation with Dr. Misti Harper
DESCRIPTION:Join us for a wonderful presentation in celebration of Women’s History Month and Homecoming Week at Southeastern Community College! \n📅 Date: March 27\n⏰ Time: 1:30 PM\n📍 Location: SCC Auditorium \nWe are honored to welcome Dr. Misti Harper\, historian and professor from UNC-Pembroke\, as she explores significant themes in women’s history. Dr. Harper specializes in race\, gender\, and social movements in U.S. history\, offering an insightful perspective on the evolving roles of women in society. \nThis event is free and open to students\, faculty\, and the community. Don’t miss this opportunity to engage in an important discussion and expand your understanding of women’s contributions throughout history!
URL:https://sccnc.edu/event/womens-history-month-presentation-with-dr-misti-harper/
LOCATION:SCC Auditorium
END:VEVENT
BEGIN:VEVENT
DTSTART;TZID=UTC:20250314T120000
DTEND;TZID=UTC:20250314T140000
DTSTAMP:20260422T233331
CREATED:20250224T143435Z
LAST-MODIFIED:20250224T143446Z
UID:10001241-1741953600-1741960800@sccnc.edu
SUMMARY:SECU Ceremony
DESCRIPTION:Join us on Thursday\, March 14th\, from 12:00 – 2:00 PM in the SCC Auditorium as we celebrate our student scholarship recipients! \nSECU will present a $18\,000 check to SCC and award scholarships to deserving students. Scholarship recipients have been invited via email by SCC Financial Aid Specialist Natasha Villalobos. \nLet’s come together to recognize their achievements and the generous support from SECU!
URL:https://sccnc.edu/event/secu-ceremony/
LOCATION:SCC Auditorium
END:VEVENT
BEGIN:VEVENT
DTSTART;TZID=UTC:20250311T130000
DTEND;TZID=UTC:20250311T140000
DTSTAMP:20260422T233331
CREATED:20250205T203313Z
LAST-MODIFIED:20250205T203313Z
UID:10000747-1741698000-1741701600@sccnc.edu
SUMMARY:Truck Driver Graduation
DESCRIPTION:
URL:https://sccnc.edu/event/truck-driver-graduation-2/
LOCATION:SCC Auditorium
END:VEVENT
END:VCALENDAR