BEGIN:VCALENDAR
VERSION:2.0
PRODID:-//Southeastern Community College - ECPv6.15.5//NONSGML v1.0//EN
CALSCALE:GREGORIAN
METHOD:PUBLISH
X-WR-CALNAME:Southeastern Community College
X-ORIGINAL-URL:https://sccnc.edu
X-WR-CALDESC:Events for Southeastern Community College
REFRESH-INTERVAL;VALUE=DURATION:PT1H
X-Robots-Tag:noindex
X-PUBLISHED-TTL:PT1H
BEGIN:VTIMEZONE
TZID:UTC
BEGIN:STANDARD
TZOFFSETFROM:+0000
TZOFFSETTO:+0000
TZNAME:UTC
DTSTART:20250101T000000
END:STANDARD
END:VTIMEZONE
BEGIN:VEVENT
DTSTART;TZID=UTC:20260407T170000
DTEND;TZID=UTC:20260407T180000
DTSTAMP:20260425T124812
CREATED:20260325T155127Z
LAST-MODIFIED:20260325T155127Z
UID:10002135-1775581200-1775584800@sccnc.edu
SUMMARY:NC Central Virtual Event for Transfer Students
DESCRIPTION:Interested in transferring to NC Central University? Register for their virtual event on April 7th from 5-6 PM. Click here to register! \nFor any questions\, please contact:\nDeneisha Wilson\nUndergraduate Admissions/Transfer Services Temp.\nNCCU Office of Transfer Services\n(919) 530-5592
URL:https://sccnc.edu/event/nc-central-virtual-event-for-transfer-students/
LOCATION:Virtual Event
END:VEVENT
BEGIN:VEVENT
DTSTART;TZID=UTC:20260312T183000
DTEND;TZID=UTC:20260312T190000
DTSTAMP:20260425T124812
CREATED:20260218T155046Z
LAST-MODIFIED:20260218T155046Z
UID:10002067-1773340200-1773342000@sccnc.edu
SUMMARY:FSU Virtual Info Session: Online Degree Completion Programs (ODC)
DESCRIPTION:Finish What You Started — On Your Terms \nIf you’ve earned college credits but didn’t complete your degree\, Fayetteville State University’s Online Degree Completion programs are designed to help you cross the finish line—without putting your life on hold. \nJoin them for a 30-minute virtual information session to learn how degree completion works\, what’s required to get started\, and whether this option is the right fit for you. \nRegister today by clicking here!
URL:https://sccnc.edu/event/fsu-virtual-info-session-online-degree-completion-programs-odc/
LOCATION:Virtual Event
END:VEVENT
BEGIN:VEVENT
DTSTART;TZID=UTC:20260205T150000
DTEND;TZID=UTC:20260205T163000
DTSTAMP:20260425T124812
CREATED:20260108T204613Z
LAST-MODIFIED:20260108T204613Z
UID:10001980-1770303600-1770309000@sccnc.edu
SUMMARY:UNC System Virtual Transfer Fair
DESCRIPTION:The UNC System Virtual Transfer Fair gives students\, families\, and transfer advisors a chance to explore UNC System universities and learn about transfer pathways and admissions. Held February 3–5\, the fair features live Zoom sessions each day from 3:00–4:30PM\, including university presentations and breakout sessions to connect directly with campus representatives. \nRegister today by clicking here!
URL:https://sccnc.edu/event/unc-system-virtual-transfer-fair-8/
LOCATION:Virtual Event
END:VEVENT
BEGIN:VEVENT
DTSTART;TZID=UTC:20260204T150000
DTEND;TZID=UTC:20260204T163000
DTSTAMP:20260425T124812
CREATED:20260108T204552Z
LAST-MODIFIED:20260108T204559Z
UID:10001979-1770217200-1770222600@sccnc.edu
SUMMARY:UNC System Virtual Transfer Fair
DESCRIPTION:The UNC System Virtual Transfer Fair gives students\, families\, and transfer advisors a chance to explore UNC System universities and learn about transfer pathways and admissions. Held February 3–5\, the fair features live Zoom sessions each day from 3:00–4:30PM\, including university presentations and breakout sessions to connect directly with campus representatives. \nRegister today by clicking here!
URL:https://sccnc.edu/event/unc-system-virtual-transfer-fair-7/
LOCATION:Virtual Event
END:VEVENT
BEGIN:VEVENT
DTSTART;TZID=UTC:20260203T150000
DTEND;TZID=UTC:20260203T163000
DTSTAMP:20260425T124812
CREATED:20260108T204538Z
LAST-MODIFIED:20260108T204604Z
UID:10001978-1770130800-1770136200@sccnc.edu
SUMMARY:UNC System Virtual Transfer Fair
DESCRIPTION:The UNC System Virtual Transfer Fair gives students\, families\, and transfer advisors a chance to explore UNC System universities and learn about transfer pathways and admissions. Held February 3–5\, the fair features live Zoom sessions each day from 3:00–4:30PM\, including university presentations and breakout sessions to connect directly with campus representatives. \nRegister today by clicking here!
URL:https://sccnc.edu/event/unc-system-virtual-transfer-fair-6/
LOCATION:Virtual Event
END:VEVENT
BEGIN:VEVENT
DTSTART;TZID=UTC:20251120T180000
DTEND;TZID=UTC:20251120T190000
DTSTAMP:20260425T124812
CREATED:20250910T200111Z
LAST-MODIFIED:20250910T200111Z
UID:10001483-1763661600-1763665200@sccnc.edu
SUMMARY:Bronco Bound: Psychology
DESCRIPTION:November 20\, 2025\n6:00 PM – 7:00 PM\nRegister Here\n\nIf you have an interest in people\, behavior\, and how the mind works\, psychology is the career path for you. \nCome expand your mind with a career in Psychology! \nRegister to learn more about Psychology at Fayetteville State University!
URL:https://sccnc.edu/event/bronco-bound-psychology/
LOCATION:Virtual Event
END:VEVENT
BEGIN:VEVENT
DTSTART;TZID=UTC:20251030T180000
DTEND;TZID=UTC:20251030T190000
DTSTAMP:20260425T124812
CREATED:20250910T195923Z
LAST-MODIFIED:20250910T195923Z
UID:10001482-1761847200-1761850800@sccnc.edu
SUMMARY:Bronco Bound: College of Business
DESCRIPTION:October 30\, 2025\n6:00 PM – 7:00 PM\nRegister Here\n\nCome learn about one of the most affordable AACSB- accredited programs in the nation. Offering award-winning programs that provide students and community members with the practical tools and analytical frameworks needed for successful careers as business professionals and entrepreneurs. \nRegister to learn more about Business at Fayetteville State University!
URL:https://sccnc.edu/event/bronco-bound-college-of-business/
LOCATION:Virtual Event
END:VEVENT
BEGIN:VEVENT
DTSTART;VALUE=DATE:20251023
DTEND;VALUE=DATE:20251024
DTSTAMP:20260425T124812
CREATED:20251015T160504Z
LAST-MODIFIED:20251015T160504Z
UID:10001928-1761177600-1761263999@sccnc.edu
SUMMARY:Transfer Tips & Trivia
DESCRIPTION:Watch your SCC email for helpful transfer information and another trivia question! \n🎉 Daily trivia (via email) and raffle prizes all week!\n🎓 Students who attend workshops get entered to win SCC merch.
URL:https://sccnc.edu/event/transfer-tips-trivia/
LOCATION:Virtual Event
END:VEVENT
BEGIN:VEVENT
DTSTART;TZID=UTC:20251002T180000
DTEND;TZID=UTC:20251002T190000
DTSTAMP:20260425T124812
CREATED:20250910T195728Z
LAST-MODIFIED:20250910T195728Z
UID:10001481-1759428000-1759431600@sccnc.edu
SUMMARY:Bronco Bound: RN - BSN
DESCRIPTION:October 2\, 2025\n6:00 PM – 7:00 PM\nRegister Here\n\nConsidering moving out of basic clinical care? With our RN to BSN program you will learn communication skills\, leadership skills\, and critical thinking which are needed to obtain jobs that pay more. \nCome learn more about the Bachelor of Science in Nursing at FSU!
URL:https://sccnc.edu/event/bronco-bound-rn-bsn/
LOCATION:Virtual Event
END:VEVENT
BEGIN:VEVENT
DTSTART;TZID=UTC:20251002T150000
DTEND;TZID=UTC:20251002T163000
DTSTAMP:20260425T124812
CREATED:20250904T151553Z
LAST-MODIFIED:20250904T151553Z
UID:10001475-1759417200-1759422600@sccnc.edu
SUMMARY:UNC System Virtual Transfer Fair
DESCRIPTION:The UNC System Virtual Transfer Fair is an opportunity for students\, families\, and transfer advisors to connect with UNC System universities. Attendees will learn about unique academic opportunities\, transfer admission processes\, and resources to support a smooth transition. The fair includes university presentations and breakout sessions to help prepare students for a successful transfer experience. \nThursday\, October 2nd: Appalachian State University\, Fayetteville State University\, NC Central University\, UNC Chapel Hill\, UNC Greensboro \nLearn more and register by clicking here!
URL:https://sccnc.edu/event/unc-system-virtual-transfer-fair-5/
LOCATION:Virtual Event
END:VEVENT
BEGIN:VEVENT
DTSTART;TZID=UTC:20251001T150000
DTEND;TZID=UTC:20251001T163000
DTSTAMP:20260425T124812
CREATED:20250904T151519Z
LAST-MODIFIED:20250904T151519Z
UID:10001474-1759330800-1759336200@sccnc.edu
SUMMARY:UNC System Virtual Transfer Fair
DESCRIPTION:The UNC System Virtual Transfer Fair is an opportunity for students\, families\, and transfer advisors to connect with UNC System universities. Attendees will learn about unique academic opportunities\, transfer admission processes\, and resources to support a smooth transition. The fair includes university presentations and breakout sessions to help prepare students for a successful transfer experience. \nWednesday\, October 1st: East Carolina University\, NC A&T University\, NC State University\, UNC Pembroke\, Western Carolina University \nLearn more and register by clicking here!
URL:https://sccnc.edu/event/unc-system-virtual-transfer-fair-4/
LOCATION:Virtual Event
END:VEVENT
BEGIN:VEVENT
DTSTART;TZID=UTC:20250930T150000
DTEND;TZID=UTC:20250930T163000
DTSTAMP:20260425T124812
CREATED:20250904T151416Z
LAST-MODIFIED:20250904T151416Z
UID:10001473-1759244400-1759249800@sccnc.edu
SUMMARY:UNC System Virtual Transfer Fair
DESCRIPTION:The UNC System Virtual Transfer Fair is an opportunity for students\, families\, and transfer advisors to connect with UNC System universities. Attendees will learn about unique academic opportunities\, transfer admission processes\, and resources to support a smooth transition. The fair includes university presentations and breakout sessions to help prepare students for a successful transfer experience. \nTuesday\, September 30th: Elizabeth City State University\, UNC Asheville\, UNC Charlotte\, UNC Wilmington\, Winston Salem State University \nLearn more and register by clicking here!
URL:https://sccnc.edu/event/unc-system-virtual-transfer-fair-3/
LOCATION:Virtual Event
END:VEVENT
BEGIN:VEVENT
DTSTART;TZID=UTC:20250918T180000
DTEND;TZID=UTC:20250918T190000
DTSTAMP:20260425T124812
CREATED:20250910T195405Z
LAST-MODIFIED:20250910T195405Z
UID:10001480-1758218400-1758222000@sccnc.edu
SUMMARY:Bronco Bound: Criminal Justice
DESCRIPTION:September 18\, 2025\n6:00 PM – 7:00 PM\nRegister Here\n\nWhat percentage of criminal cases are solved with DNA evidence? Only 1 percent! \nApproximately how many Americans spend at least one day in jail each year? About 7 million! \nWhat percentage of criminal cases result in a trial? Less than 5 percent! \nCome learn how to ethically confront issues of crime and criminal justice. \nRegister to learn more about Criminal Justice at Fayetteville State University!
URL:https://sccnc.edu/event/bronco-bound-criminal-justice/
LOCATION:Virtual Event
END:VEVENT
END:VCALENDAR